BEGIN:VCALENDAR
VERSION:2.0
PRODID:-//Gonzalo Duran - ECPv6.15.20//NONSGML v1.0//EN
CALSCALE:GREGORIAN
METHOD:PUBLISH
X-ORIGINAL-URL:https://www.gonzaloduran.nyc
X-WR-CALDESC:Events for Gonzalo Duran
REFRESH-INTERVAL;VALUE=DURATION:PT1H
X-Robots-Tag:noindex
X-PUBLISHED-TTL:PT1H
BEGIN:VTIMEZONE
TZID:America/New_York
BEGIN:DAYLIGHT
TZOFFSETFROM:-0500
TZOFFSETTO:-0400
TZNAME:EDT
DTSTART:20250309T070000
END:DAYLIGHT
BEGIN:STANDARD
TZOFFSETFROM:-0400
TZOFFSETTO:-0500
TZNAME:EST
DTSTART:20251102T060000
END:STANDARD
BEGIN:DAYLIGHT
TZOFFSETFROM:-0500
TZOFFSETTO:-0400
TZNAME:EDT
DTSTART:20260308T070000
END:DAYLIGHT
BEGIN:STANDARD
TZOFFSETFROM:-0400
TZOFFSETTO:-0500
TZNAME:EST
DTSTART:20261101T060000
END:STANDARD
BEGIN:DAYLIGHT
TZOFFSETFROM:-0500
TZOFFSETTO:-0400
TZNAME:EDT
DTSTART:20270314T070000
END:DAYLIGHT
BEGIN:STANDARD
TZOFFSETFROM:-0400
TZOFFSETTO:-0500
TZNAME:EST
DTSTART:20271107T060000
END:STANDARD
END:VTIMEZONE
BEGIN:VEVENT
DTSTART;TZID=America/New_York:20260415T180000
DTEND;TZID=America/New_York:20260415T210000
DTSTAMP:20260425T101123
CREATED:20260413T045219Z
LAST-MODIFIED:20260413T045412Z
UID:3423-1776276000-1776286800@www.gonzaloduran.nyc
SUMMARY:Gonzalo Duran to Participate in N.A.R.E.B. Political Advocacy Day
DESCRIPTION:I am honored to have been invited to participate in Political Advocacy Day\, hosted by the National Association of Real Estate Brokers (N.A.R.E.B.)\, an organization committed to advancing civic awareness and engagement within minority communities. This event is part of a broader initiative to foster meaningful dialogue around participation\, representation\, and the real impact of the political process. \nThe discussion will be moderated by Maxine Teele\, who brings a thoughtful and structured approach to guiding conversations that matter. I look forward to contributing to a dialogue that prioritizes clarity\, accessibility\, and real-world understanding. \nPolitical Advocacy Day is grounded in a clear mission: to help individuals better understand how the political system works and where they fit within it. Many people feel disconnected or uncertain about how to engage. This forum is designed to bridge that gap by presenting civic participation in a way that is practical\, relatable\, and achievable. \nThis event is intentionally nonpartisan and is not structured as a debate. Instead\, it serves as a shared learning space focused on education\, reflection\, and community impact. The discussion will explore how local and midterm elections shape everyday life and how individuals can take meaningful steps to become more involved in their communities. \nThrough clear examples and lived experiences\, the panel will aim to simplify complex ideas and provide attendees with greater confidence in their ability to participate. The goal is not only to inform\, but to empower. \nTo attend this event\, registration is required. Guests are encouraged to reserve a seat in advance using the following link:https://www.eventbrite.com/e/political-advocacy-day-tickets-1987268863667?aff=oddtdtcreator \nEvent DetailsDate: Wednesday\, April 15Time: 6:00 PM \nFeatured SpeakersDr. Jermaine MeadowsGonzalo Duran \nThis is an opportunity to continue building a more informed\, engaged\, and connected community through knowledge and action.
URL:https://www.gonzaloduran.nyc/event/gonzalo-duran-to-participate-in-n-a-r-e-b-political-advocacy-day/
CATEGORIES:Event
ATTACH;FMTTYPE=image/png:https://www.gonzaloduran.nyc/wp-content/uploads/2026/04/IMG_5612.png
END:VEVENT
END:VCALENDAR