BEGIN:VCALENDAR
VERSION:2.0
PRODID:-//Gonzalo Duran - ECPv6.15.20//NONSGML v1.0//EN
CALSCALE:GREGORIAN
METHOD:PUBLISH
X-ORIGINAL-URL:https://www.gonzaloduran.nyc
X-WR-CALDESC:Events for Gonzalo Duran
REFRESH-INTERVAL;VALUE=DURATION:PT1H
X-Robots-Tag:noindex
X-PUBLISHED-TTL:PT1H
BEGIN:VTIMEZONE
TZID:America/New_York
BEGIN:DAYLIGHT
TZOFFSETFROM:-0500
TZOFFSETTO:-0400
TZNAME:EDT
DTSTART:20160313T070000
END:DAYLIGHT
BEGIN:STANDARD
TZOFFSETFROM:-0400
TZOFFSETTO:-0500
TZNAME:EST
DTSTART:20161106T060000
END:STANDARD
BEGIN:DAYLIGHT
TZOFFSETFROM:-0500
TZOFFSETTO:-0400
TZNAME:EDT
DTSTART:20170312T070000
END:DAYLIGHT
BEGIN:STANDARD
TZOFFSETFROM:-0400
TZOFFSETTO:-0500
TZNAME:EST
DTSTART:20171105T060000
END:STANDARD
BEGIN:DAYLIGHT
TZOFFSETFROM:-0500
TZOFFSETTO:-0400
TZNAME:EDT
DTSTART:20180311T070000
END:DAYLIGHT
BEGIN:STANDARD
TZOFFSETFROM:-0400
TZOFFSETTO:-0500
TZNAME:EST
DTSTART:20181104T060000
END:STANDARD
BEGIN:DAYLIGHT
TZOFFSETFROM:-0500
TZOFFSETTO:-0400
TZNAME:EDT
DTSTART:20190310T070000
END:DAYLIGHT
BEGIN:STANDARD
TZOFFSETFROM:-0400
TZOFFSETTO:-0500
TZNAME:EST
DTSTART:20191103T060000
END:STANDARD
BEGIN:DAYLIGHT
TZOFFSETFROM:-0500
TZOFFSETTO:-0400
TZNAME:EDT
DTSTART:20200308T070000
END:DAYLIGHT
BEGIN:STANDARD
TZOFFSETFROM:-0400
TZOFFSETTO:-0500
TZNAME:EST
DTSTART:20201101T060000
END:STANDARD
BEGIN:DAYLIGHT
TZOFFSETFROM:-0500
TZOFFSETTO:-0400
TZNAME:EDT
DTSTART:20210314T070000
END:DAYLIGHT
BEGIN:STANDARD
TZOFFSETFROM:-0400
TZOFFSETTO:-0500
TZNAME:EST
DTSTART:20211107T060000
END:STANDARD
BEGIN:DAYLIGHT
TZOFFSETFROM:-0500
TZOFFSETTO:-0400
TZNAME:EDT
DTSTART:20220313T070000
END:DAYLIGHT
BEGIN:STANDARD
TZOFFSETFROM:-0400
TZOFFSETTO:-0500
TZNAME:EST
DTSTART:20221106T060000
END:STANDARD
BEGIN:DAYLIGHT
TZOFFSETFROM:-0500
TZOFFSETTO:-0400
TZNAME:EDT
DTSTART:20230312T070000
END:DAYLIGHT
BEGIN:STANDARD
TZOFFSETFROM:-0400
TZOFFSETTO:-0500
TZNAME:EST
DTSTART:20231105T060000
END:STANDARD
BEGIN:DAYLIGHT
TZOFFSETFROM:-0500
TZOFFSETTO:-0400
TZNAME:EDT
DTSTART:20240310T070000
END:DAYLIGHT
BEGIN:STANDARD
TZOFFSETFROM:-0400
TZOFFSETTO:-0500
TZNAME:EST
DTSTART:20241103T060000
END:STANDARD
BEGIN:DAYLIGHT
TZOFFSETFROM:-0500
TZOFFSETTO:-0400
TZNAME:EDT
DTSTART:20250309T070000
END:DAYLIGHT
BEGIN:STANDARD
TZOFFSETFROM:-0400
TZOFFSETTO:-0500
TZNAME:EST
DTSTART:20251102T060000
END:STANDARD
BEGIN:DAYLIGHT
TZOFFSETFROM:-0500
TZOFFSETTO:-0400
TZNAME:EDT
DTSTART:20260308T070000
END:DAYLIGHT
BEGIN:STANDARD
TZOFFSETFROM:-0400
TZOFFSETTO:-0500
TZNAME:EST
DTSTART:20261101T060000
END:STANDARD
BEGIN:DAYLIGHT
TZOFFSETFROM:-0500
TZOFFSETTO:-0400
TZNAME:EDT
DTSTART:20270314T070000
END:DAYLIGHT
BEGIN:STANDARD
TZOFFSETFROM:-0400
TZOFFSETTO:-0500
TZNAME:EST
DTSTART:20271107T060000
END:STANDARD
END:VTIMEZONE
BEGIN:VEVENT
DTSTART;TZID=America/New_York:20260415T180000
DTEND;TZID=America/New_York:20260415T210000
DTSTAMP:20260423T043123
CREATED:20260413T045219Z
LAST-MODIFIED:20260413T045412Z
UID:3423-1776276000-1776286800@www.gonzaloduran.nyc
SUMMARY:Gonzalo Duran to Participate in N.A.R.E.B. Political Advocacy Day
DESCRIPTION:I am honored to have been invited to participate in Political Advocacy Day\, hosted by the National Association of Real Estate Brokers (N.A.R.E.B.)\, an organization committed to advancing civic awareness and engagement within minority communities. This event is part of a broader initiative to foster meaningful dialogue around participation\, representation\, and the real impact of the political process. \nThe discussion will be moderated by Maxine Teele\, who brings a thoughtful and structured approach to guiding conversations that matter. I look forward to contributing to a dialogue that prioritizes clarity\, accessibility\, and real-world understanding. \nPolitical Advocacy Day is grounded in a clear mission: to help individuals better understand how the political system works and where they fit within it. Many people feel disconnected or uncertain about how to engage. This forum is designed to bridge that gap by presenting civic participation in a way that is practical\, relatable\, and achievable. \nThis event is intentionally nonpartisan and is not structured as a debate. Instead\, it serves as a shared learning space focused on education\, reflection\, and community impact. The discussion will explore how local and midterm elections shape everyday life and how individuals can take meaningful steps to become more involved in their communities. \nThrough clear examples and lived experiences\, the panel will aim to simplify complex ideas and provide attendees with greater confidence in their ability to participate. The goal is not only to inform\, but to empower. \nTo attend this event\, registration is required. Guests are encouraged to reserve a seat in advance using the following link:https://www.eventbrite.com/e/political-advocacy-day-tickets-1987268863667?aff=oddtdtcreator \nEvent DetailsDate: Wednesday\, April 15Time: 6:00 PM \nFeatured SpeakersDr. Jermaine MeadowsGonzalo Duran \nThis is an opportunity to continue building a more informed\, engaged\, and connected community through knowledge and action.
URL:https://www.gonzaloduran.nyc/event/gonzalo-duran-to-participate-in-n-a-r-e-b-political-advocacy-day/
CATEGORIES:Event
ATTACH;FMTTYPE=image/png:https://www.gonzaloduran.nyc/wp-content/uploads/2026/04/IMG_5612.png
END:VEVENT
BEGIN:VEVENT
DTSTART;TZID=America/New_York:20251018T120000
DTEND;TZID=America/New_York:20251018T130000
DTSTAMP:20260423T043123
CREATED:20251008T145638Z
LAST-MODIFIED:20251008T145638Z
UID:2911-1760788800-1760792400@www.gonzaloduran.nyc
SUMMARY:Save the Bronx Rally
DESCRIPTION:Save the Bronx Rally\nThis year\, New York stands at a crossroads. From the rise of socialism creeping into our institutions to citizens losing faith in our electoral system\, we face challenges that will define the future of our city—and our nation. \nAt the heart of it all lies this year’s mayoral election\, a race that will determine whether New York continues to decline or begins its long-overdue comeback. Leading that fight is Curtis Sliwa\, a man who has dedicated more than four decades to protecting\, uplifting\, and restoring this city. Curtis isn’t just a name on a ballot—he’s a symbol of grit\, courage\, and unwavering love for New York. \nHis opponents? A failed and corrupt mayor\, a disgraced former governor facing multiple accusations\, and a socialist whose policies threaten the very soul of our city. \nAnd yet\, I can’t believe there’s even a question as to why Curtis Sliwa isn’t already the frontrunner. That’s why I’m doing everything in my power to change that narrative—right here in the Bronx. I’m working to raise awareness\, drive turnout\, and make sure our voices—the voices of the working class\, of veterans\, of families—are heard loud and clear. \nAs a candidate for New York City Public Advocate\, I’ve stood shoulder to shoulder with Curtis through every borough\, in the cold\, in the rain\, and under the scorching sun. And let me be clear—nothing will stop me until Election Day\, November 4th. \nBecause the Bronx has the power to set the stage for the world. Even as one of the strongest Democratic strongholds in the city\, we’re seeing signs of change—small steps\, but unmistakable ones. The people are waking up. \nIf you believe in restoring integrity\, opportunity\, and hope to New York\, I invite you to join us. Volunteer with our Get Out The Vote campaign—we’ll be out in the community every week until Election Day\, and every hand makes a difference. \nTo volunteer or contribute\, contact us directly at gonzalodurannyc@gmail.com\nor call (516) 515-0240. \nSave the Bronx Rally Details \nSaturday\, October 18th\n12:00 PM (Doors Open at 11:30 AM)\n1403 Prospect Avenue\, Bronx\, NY 10459\nEvent concludes by 1:00 PM \nTogether\, we can take back our city—block by block\, borough by borough\, vote by vote. \nThis is more than a campaign—it’s a movement. Save the Bronx. Save New York.
URL:https://www.gonzaloduran.nyc/event/save-the-bronx-rally/
CATEGORIES:Event
ATTACH;FMTTYPE=image/jpeg:https://www.gonzaloduran.nyc/wp-content/uploads/2025/10/Save-the-Bronx-Rally.jpg
ORGANIZER;CN="Gonzalo Duran":MAILTO:gonzalodurannyc@gmail.com 
END:VEVENT
BEGIN:VEVENT
DTSTART;TZID=America/New_York:20250830T060000
DTEND;TZID=America/New_York:20250830T190000
DTSTAMP:20260423T043123
CREATED:20250829T145615Z
LAST-MODIFIED:20250829T145722Z
UID:2679-1756533600-1756580400@www.gonzaloduran.nyc
SUMMARY:Action and Accountability: Combating Crime in Our Neighborhoods
DESCRIPTION:Gonzalo Duran\, candidate for New York City Public Advocate\, will hold a press conference alongside organizations and candidates from the Bronx Conservative Party\, the United Alliance Party\, the New York Young Republican Club Bronx Caucus\, and other community partners. \nThis press conference is not simply about addressing the latest headlines on crime—it is about asking the deeper question: why does crime continue to rise in our neighborhoods? And more importantly: what can we do—together—to stop it? \nWe will present a clear plan of action\, both in our communities and legislatively\, to push back against the tide of crime that affects families across the Bronx and beyond. We will also outline how residents themselves can take part in this fight—because real solutions require action from leaders and neighbors alike. \nThis is about safety. This is about accountability. And this is about standing together against an increasingly alarming challenge that threatens the future of our city. \nJoin us\, stand with us\, and be part of the solution. \n1347 Bristow Street\, Bronx\, NY – Community CenterSaturday\, August 30th\, 20256:00 PM – 7:00 PM \nTo help me in my journey for New York City Public Advocate\, please support my campaign. \nDONATE HERE: \nGonzalo Duran for Public Advocate of New York City
URL:https://www.gonzaloduran.nyc/event/action-and-accountability-combating-crime-in-our-neighborhoods/
CATEGORIES:Press Conference
ATTACH;FMTTYPE=image/jpeg:https://www.gonzaloduran.nyc/wp-content/uploads/2025/08/IMG_7797-scaled.jpeg
ORGANIZER;CN="Gonzalo Duran":MAILTO:gonzalodurannyc@gmail.com 
END:VEVENT
BEGIN:VEVENT
DTSTART;TZID=America/New_York:20250614T160000
DTEND;TZID=America/New_York:20250614T180000
DTSTAMP:20260423T043123
CREATED:20250517T052700Z
LAST-MODIFIED:20250517T053043Z
UID:2240-1749916800-1749924000@www.gonzaloduran.nyc
SUMMARY:Gonzalo Duran's Fundraiser for NYC Public Advocate
DESCRIPTION:I cordially invite you to join us for an evening of unity\, purpose\, and momentum as we gather in support of my campaign for New York City Public Advocate. \nThis isn’t just a fundraiser—it’s a movement to restore accountability\, transparency\, and common-sense leadership to City Hall. \nI’m honored to be joined by two remarkable leaders: New York State Conservative Party Chairman Gerard Kassar and Mayoral Candidate Curtis Sliwa \nTogether\, we are building a coalition that bridges the gap between everyday New Yorkers and the leadership they deserve. \nEvent Details: \nDate: Saturday\, June 14Time: 4:00 PM – 6:00 PMLocation: Marisco Centro\, Bronx Terminal Market\, 610 Exterior Street\, Bronx\, NY\nAdmission: $50Sponsorship opportunities start at: $250 \nTo Attend\, Sponsor\, or Donate: \nPlease contact me directly at gonzalodurannyc@gmail.com or (516) 515-0240You can also make a contribution online at: https://contribute.nycvotes.org/campaigns/gonzaloduran2 \nTo learn more about my platform and vision for New York City\, visit my website at www.gonzaloduran.nyc or follow me on all major social platforms at @gonzalodurannyc.
URL:https://www.gonzaloduran.nyc/event/gonzalo-durans-fundraiser-for-nyc-public-advocate/
LOCATION:Marisco Centro\, 610 Exterior St.\, Bronx\, United States
CATEGORIES:Campaign Event
ATTACH;FMTTYPE=image/jpeg:https://www.gonzaloduran.nyc/wp-content/uploads/2025/05/Gonzalo-Duran-Fundraiser-scaled.jpeg
END:VEVENT
BEGIN:VEVENT
DTSTART;TZID=America/New_York:20250523T173000
DTEND;TZID=America/New_York:20250523T203000
DTSTAMP:20260423T043123
CREATED:20250513T194805Z
LAST-MODIFIED:20250513T194805Z
UID:2229-1748021400-1748032200@www.gonzaloduran.nyc
SUMMARY:The Viable Candidate Event 2025
DESCRIPTION:You asked—and we listened. \nMany have raised a fair and pressing question: Why is it that only Democratic voices seem to dominate the conversation? It’s time to change that. \nThis event is proudly open to Republicans\, Conservatives\, and Common Sense Democrats—individuals who are ready to stand up\, speak out\, and make their voices heard. We believe in balanced dialogue\, open platforms\, and real conversations that reflect the full spectrum of our city’s voters. \nLeading the way is none other than our own Mayoral Candidate\, Curtis Sliwa\, a fearless advocate for everyday New Yorkers and a voice for those who feel left behind by the political status quo. \nWe invite you to review the event flyer for full details. If you’re interested in speaking\, sponsoring\, or getting involved\, please contact Gonzalo Duran at gonzalodurannyc@gmail.com or call (516) 515-0240. \nLet’s make our voices heard—loud\, clear\, and united.
URL:https://www.gonzaloduran.nyc/event/the-viable-candidate-event-2025/
LOCATION:806 Jennings St. Bronx NY\, 806 Jennings St.\, Bronx\, 10459\, United States
CATEGORIES:Event
ATTACH;FMTTYPE=image/jpeg:https://www.gonzaloduran.nyc/wp-content/uploads/2025/05/Viable-Candidate-2025-scaled.jpeg
ORGANIZER;CN="Gonzalo Duran":MAILTO:gonzalodurannyc@gmail.com 
END:VEVENT
BEGIN:VEVENT
DTSTART;TZID=America/New_York:20250514T160000
DTEND;TZID=America/New_York:20250514T200000
DTSTAMP:20260423T043123
CREATED:20250514T195359Z
LAST-MODIFIED:20250514T195359Z
UID:2233-1747238400-1747252800@www.gonzaloduran.nyc
SUMMARY:Professional Headshots
DESCRIPTION:  \n  \n  \n999 \nThis week\, I’m proud to announce that my office is partnering with Today’s Pixels to offer affordable\, high-quality headshots to members of the community. Whether you’re an entrepreneur\, candidate\, or job seeker\, this is a perfect opportunity to present your best self. \nSpaces are limited—secure your spot today. \nTo register contact Gonzalo Duran at gonzalodurannyc@gmail.com or (516) 515-0240. 
URL:https://www.gonzaloduran.nyc/event/professional-headshots/
LOCATION:Devil Dog USA Inc. Community Center\, 1347 Bristow st\, Bronx\, NEW YORK (NY)\, 10459\, United States
ATTACH;FMTTYPE=image/jpeg:https://www.gonzaloduran.nyc/wp-content/uploads/2025/05/Headshot-Photoshoot-scaled.jpeg
END:VEVENT
BEGIN:VEVENT
DTSTART;TZID=America/New_York:20250309T143000
DTEND;TZID=America/New_York:20250309T163000
DTSTAMP:20260423T043123
CREATED:20250306T003204Z
LAST-MODIFIED:20250306T003306Z
UID:2070-1741530600-1741537800@www.gonzaloduran.nyc
SUMMARY:Candidate Forum: There's Another Option
DESCRIPTION:There are many areas in New York City that remain strongholds for the Democratic Party\, but many of us in the Republican and Conservative parties are determined to break through. \nLeading the charge is Curtis Sliwa\, our next Mayor. \nWe invite candidates\, families\, friends\, and supporters to join us this Sunday\, March 9th from 2:30 PM – 4:30 PM at 1074 Hall Place in the Bronx. \nVideo Message: \n \n#GonzaloDuran #PublicAdvocate #NYC #CurtisSliwa #Mayor #Elections2025 #Republicans #Conservatives #Candidates
URL:https://www.gonzaloduran.nyc/event/candidate-forum-theres-another-option/
LOCATION:Mt. Nebo grand Lodge\, 1074 Hall Place \, New York \, 10459\, United States
CATEGORIES:Campaign Event
ATTACH;FMTTYPE=image/png:https://www.gonzaloduran.nyc/wp-content/uploads/2025/03/Add_a_heading_20250304_212405_0000.png
END:VEVENT
BEGIN:VEVENT
DTSTART;TZID=America/New_York:20240117T150000
DTEND;TZID=America/New_York:20240117T170000
DTSTAMP:20260423T043123
CREATED:20240117T050406Z
LAST-MODIFIED:20240117T050406Z
UID:1406-1705503600-1705510800@www.gonzaloduran.nyc
SUMMARY:The Bronx County Conservative Party: Coat Giveaway
DESCRIPTION:The Bronx County Conservative Party is distributing coats to those in need. If you know someone in need\, please share or if you have an extra coat\, feel free to drop it off and help us out. \n 
URL:https://www.gonzaloduran.nyc/event/the-bronx-county-conservative-party-coat-giveaway/
CATEGORIES:Event
ATTACH;FMTTYPE=image/jpeg:https://www.gonzaloduran.nyc/wp-content/uploads/2024/01/Untitled-10-scaled.jpeg
END:VEVENT
BEGIN:VEVENT
DTSTART;TZID=America/New_York:20231218T180000
DTEND;TZID=America/New_York:20231218T190000
DTSTAMP:20260423T043123
CREATED:20231214T124023Z
LAST-MODIFIED:20231214T124102Z
UID:1318-1702922400-1702926000@www.gonzaloduran.nyc
SUMMARY:The Bronx Conservative Social Club: Intro To Community Boards\, Civic Associations\, Etc.
DESCRIPTION:Excited to host Recording Secretary & Community Advocate Grace Marrero for a vital discussion on Community Boards\, Civic Associations\, etc. Join us for an engaging group discussion. For details\, contact me at gonzalodurannyc@gmail.com or visit www.gonzaloduran.nyc. Let’s shape our community’s future together!
URL:https://www.gonzaloduran.nyc/event/the-bronx-conservative-social-club-intro-to-community-boards-civic-associations-etc/
CATEGORIES:Event
ATTACH;FMTTYPE=image/jpeg:https://www.gonzaloduran.nyc/wp-content/uploads/2023/12/My-project-1.jpeg
ORGANIZER;CN="Gonzalo Duran":MAILTO:gonzalodurannyc@gmail.com 
END:VEVENT
BEGIN:VEVENT
DTSTART;VALUE=DATE:20220608
DTEND;VALUE=DATE:20221001
DTSTAMP:20260423T043123
CREATED:20220608T195518Z
LAST-MODIFIED:20220608T214916Z
UID:727-1654646400-1664582399@www.gonzaloduran.nyc
SUMMARY:House Warming
DESCRIPTION:Hello\, \nI will be having a non traditional house warming. I am personally inviting you and a guest to a private dinner\, scheduled around your schedule at my new apartment.  \nOnce you confirm the date and time\, the next step is picking a meal of your preference. I look forward to this part because it will challenge my culinary skills. Give me a call and we can hash out the details. The only thing I ask\, you bring dessert.  \nTraditionally you would bring a gift but once again this is not traditional. First I would like you to know\, this invitation does not require a gift\, just you\, the gift is just a bonus. If you are able to and are inclined; you are welcomed to gift me the following: \n1. A plant (please provide information on how to care for it).\n2. A book or more (half the books collected will go to a local Book Mobile). \n3. Monetary funds (I have the major necessities but do need a few small items).\n     – Cash app: $GonzoDuran\n     – Zelle: just use my phone number or email\n4. Donate to Devil Dog USA: All funds collected will go towards its Summer programs – Click Here \nLastly\, I hope this invitation helps us bridge a closer friendship. I look forward to a great meal and good conversations.  \n                                                                                                                      Sincerely Your Friend\, \n                                                                                                                              Gonzalo Duran  \n 
URL:https://www.gonzaloduran.nyc/event/house-warming/
ATTACH;FMTTYPE=image/jpeg:https://www.gonzaloduran.nyc/wp-content/uploads/2022/06/there-is-no-place-like-home-quote-prints-1.jpg
END:VEVENT
BEGIN:VEVENT
DTSTART;TZID=America/New_York:20170514T130000
DTEND;TZID=America/New_York:20170514T150000
DTSTAMP:20260423T043123
CREATED:20170429T060124Z
LAST-MODIFIED:20170429T060124Z
UID:499-1494766800-1494774000@www.gonzaloduran.nyc
SUMMARY:Mother's Day Crochet Class
DESCRIPTION:
URL:https://www.gonzaloduran.nyc/event/mothers-day-crochet-class/
LOCATION:Michaels Arts & Crafts\, 840 Pelham Parkway \, Bronx \, NY\, 10803\, United States
CATEGORIES:Event
ATTACH;FMTTYPE=image/jpeg:https://www.gonzaloduran.nyc/wp-content/uploads/2017/04/Liz-Crochet-Class.jpg
ORGANIZER;CN="Gonzalo Duran":MAILTO:gonzalodurannyc@gmail.com 
END:VEVENT
BEGIN:VEVENT
DTSTART;TZID=America/New_York:20170506T190000
DTEND;TZID=America/New_York:20170506T210000
DTSTAMP:20260423T043123
CREATED:20170502T195004Z
LAST-MODIFIED:20170502T195004Z
UID:510-1494097200-1494104400@www.gonzaloduran.nyc
SUMMARY:Theater of War
DESCRIPTION:
URL:https://www.gonzaloduran.nyc/event/theater-of-war/
LOCATION:Pregones Theater\, 575 Walton Ave.\, Bronx \, NY\, 10451\, United States
CATEGORIES:Event
ATTACH;FMTTYPE=image/jpeg:https://www.gonzaloduran.nyc/wp-content/uploads/2017/05/TOW-PAIR-Pregones-Cast-Flyer.jpg
END:VEVENT
BEGIN:VEVENT
DTSTART;TZID=America/New_York:20170506T110000
DTEND;TZID=America/New_York:20170506T160000
DTSTAMP:20260423T043123
CREATED:20170502T184229Z
LAST-MODIFIED:20170502T184229Z
UID:506-1494068400-1494086400@www.gonzaloduran.nyc
SUMMARY:Belmont BID 3rd Annual Art Show
DESCRIPTION:
URL:https://www.gonzaloduran.nyc/event/belmont-bid-3rd-annual-art-show/
LOCATION:Belmont BID\, East 186th Street at Arthur Ave\, Bronx \, NY\, 10458\, United States
CATEGORIES:Event
ATTACH;FMTTYPE=image/jpeg:https://www.gonzaloduran.nyc/wp-content/uploads/2017/05/unnamed.jpg
ORGANIZER;CN="Gonzalo Duran":MAILTO:gonzalodurannyc@gmail.com 
END:VEVENT
BEGIN:VEVENT
DTSTART;TZID=America/New_York:20170415T130000
DTEND;TZID=America/New_York:20170415T150000
DTSTAMP:20260423T043123
CREATED:20170410T050651Z
LAST-MODIFIED:20170410T050651Z
UID:345-1492261200-1492268400@www.gonzaloduran.nyc
SUMMARY:Employment and Finance Workshop
DESCRIPTION:This event is open to the public but has a strong focus on Veterans. 
URL:https://www.gonzaloduran.nyc/event/employment-finance-workshop/
LOCATION:Mt. Nebo grand Lodge\, 1074 Hall Place \, New York \, 10459\, United States
CATEGORIES:Event
ATTACH;FMTTYPE=image/jpeg:https://www.gonzaloduran.nyc/wp-content/uploads/2017/04/Employment-and-Finance-Workshop-.jpg
ORGANIZER;CN="Gonzalo Duran":MAILTO:gonzalodurannyc@gmail.com 
END:VEVENT
BEGIN:VEVENT
DTSTART;TZID=America/New_York:20170407T190000
DTEND;TZID=America/New_York:20170407T210000
DTSTAMP:20260423T043123
CREATED:20170409T202121Z
LAST-MODIFIED:20170409T202232Z
UID:312-1491591600-1491598800@www.gonzaloduran.nyc
SUMMARY:Knights of Columbus #443 - Fish Fry
DESCRIPTION:
URL:https://www.gonzaloduran.nyc/event/knights-columbus-443-fish-fry/
LOCATION:Good Shepherd School Auditorium\, 620 Isham St \, New York \, 10034\, United States
CATEGORIES:Event
ATTACH;FMTTYPE=image/jpeg:https://www.gonzaloduran.nyc/wp-content/uploads/2017/04/IMG_9478.jpg
END:VEVENT
BEGIN:VEVENT
DTSTART;TZID=America/New_York:20170401T130000
DTEND;TZID=America/New_York:20170401T160000
DTSTAMP:20260423T043123
CREATED:20170409T191314Z
LAST-MODIFIED:20170409T191314Z
UID:298-1491051600-1491062400@www.gonzaloduran.nyc
SUMMARY:Bronx Rally For One Cause
DESCRIPTION:Rev. Carmen Hernandez has invited all to participate. 
URL:https://www.gonzaloduran.nyc/event/bronx-rally-one-cause/
LOCATION:Bronx Supreme Courthouse\, 851 Grand Concourse\, New York \, 10458\, United States
CATEGORIES:Event
ATTACH;FMTTYPE=image/jpeg:https://www.gonzaloduran.nyc/wp-content/uploads/2017/04/17554255_10155189281407704_693784701037442461_n.jpg
END:VEVENT
END:VCALENDAR