BEGIN:VCALENDAR
VERSION:2.0
PRODID:-//Gonzalo Duran - ECPv6.15.20//NONSGML v1.0//EN
CALSCALE:GREGORIAN
METHOD:PUBLISH
X-ORIGINAL-URL:https://www.gonzaloduran.nyc
X-WR-CALDESC:Events for Gonzalo Duran
REFRESH-INTERVAL;VALUE=DURATION:PT1H
X-Robots-Tag:noindex
X-PUBLISHED-TTL:PT1H
BEGIN:VTIMEZONE
TZID:America/New_York
BEGIN:DAYLIGHT
TZOFFSETFROM:-0500
TZOFFSETTO:-0400
TZNAME:EDT
DTSTART:20160313T070000
END:DAYLIGHT
BEGIN:STANDARD
TZOFFSETFROM:-0400
TZOFFSETTO:-0500
TZNAME:EST
DTSTART:20161106T060000
END:STANDARD
BEGIN:DAYLIGHT
TZOFFSETFROM:-0500
TZOFFSETTO:-0400
TZNAME:EDT
DTSTART:20170312T070000
END:DAYLIGHT
BEGIN:STANDARD
TZOFFSETFROM:-0400
TZOFFSETTO:-0500
TZNAME:EST
DTSTART:20171105T060000
END:STANDARD
BEGIN:DAYLIGHT
TZOFFSETFROM:-0500
TZOFFSETTO:-0400
TZNAME:EDT
DTSTART:20180311T070000
END:DAYLIGHT
BEGIN:STANDARD
TZOFFSETFROM:-0400
TZOFFSETTO:-0500
TZNAME:EST
DTSTART:20181104T060000
END:STANDARD
END:VTIMEZONE
BEGIN:VEVENT
DTSTART;TZID=America/New_York:20170401T130000
DTEND;TZID=America/New_York:20170401T160000
DTSTAMP:20260424T083522
CREATED:20170409T191314Z
LAST-MODIFIED:20170409T191314Z
UID:298-1491051600-1491062400@www.gonzaloduran.nyc
SUMMARY:Bronx Rally For One Cause
DESCRIPTION:Rev. Carmen Hernandez has invited all to participate. 
URL:https://www.gonzaloduran.nyc/event/bronx-rally-one-cause/
LOCATION:Bronx Supreme Courthouse\, 851 Grand Concourse\, New York \, 10458\, United States
CATEGORIES:Event
ATTACH;FMTTYPE=image/jpeg:https://www.gonzaloduran.nyc/wp-content/uploads/2017/04/17554255_10155189281407704_693784701037442461_n.jpg
END:VEVENT
END:VCALENDAR